BEGIN:VCALENDAR
VERSION:2.0
PRODID:-//Caron Koteles Riha - ECPv6.15.20//NONSGML v1.0//EN
CALSCALE:GREGORIAN
METHOD:PUBLISH
X-ORIGINAL-URL:https://caronkoteles.com
X-WR-CALDESC:Events for Caron Koteles Riha
REFRESH-INTERVAL;VALUE=DURATION:PT1H
X-Robots-Tag:noindex
X-PUBLISHED-TTL:PT1H
BEGIN:VTIMEZONE
TZID:America/Detroit
BEGIN:DAYLIGHT
TZOFFSETFROM:-0500
TZOFFSETTO:-0400
TZNAME:EDT
DTSTART:20230312T070000
END:DAYLIGHT
BEGIN:STANDARD
TZOFFSETFROM:-0400
TZOFFSETTO:-0500
TZNAME:EST
DTSTART:20231105T060000
END:STANDARD
BEGIN:DAYLIGHT
TZOFFSETFROM:-0500
TZOFFSETTO:-0400
TZNAME:EDT
DTSTART:20240310T070000
END:DAYLIGHT
BEGIN:STANDARD
TZOFFSETFROM:-0400
TZOFFSETTO:-0500
TZNAME:EST
DTSTART:20241103T060000
END:STANDARD
BEGIN:DAYLIGHT
TZOFFSETFROM:-0500
TZOFFSETTO:-0400
TZNAME:EDT
DTSTART:20250309T070000
END:DAYLIGHT
BEGIN:STANDARD
TZOFFSETFROM:-0400
TZOFFSETTO:-0500
TZNAME:EST
DTSTART:20251102T060000
END:STANDARD
END:VTIMEZONE
BEGIN:VEVENT
DTSTART;TZID=America/Detroit:20240307T190000
DTEND;TZID=America/Detroit:20240307T200000
DTSTAMP:20260421T201858
CREATED:20240304T202404Z
LAST-MODIFIED:20240304T202404Z
UID:23974-1709838000-1709841600@caronkoteles.com
SUMMARY:S'mores and Stars at Bloomer Park in Rochester\, MI!
DESCRIPTION:Join us for an exciting evening looking at the stars!  \nProviding the sky cooperates\, enjoy a scenic view of the night sky through telescopes with the Oakland Astronomy Club. If it’s a cloudy night\, enjoy a guided night hike\, owl calling\, and more accompanied by marshmallows roasting over a crackling campfire. \nSuitable for all ages. Children under 12 must purchase a ticket and be accompanied by a paid adult. \nPrice: $10\nClick here for more info!
URL:https://caronkoteles.com/event/smores-and-stars-at-bloomer-park-in-rochester-mi/
END:VEVENT
END:VCALENDAR