BEGIN:VCALENDAR
VERSION:2.0
PRODID:-//Caron Koteles Riha - ECPv6.15.20//NONSGML v1.0//EN
CALSCALE:GREGORIAN
METHOD:PUBLISH
X-ORIGINAL-URL:https://caronkoteles.com
X-WR-CALDESC:Events for Caron Koteles Riha
REFRESH-INTERVAL;VALUE=DURATION:PT1H
X-Robots-Tag:noindex
X-PUBLISHED-TTL:PT1H
BEGIN:VTIMEZONE
TZID:America/Detroit
BEGIN:DAYLIGHT
TZOFFSETFROM:-0500
TZOFFSETTO:-0400
TZNAME:EDT
DTSTART:20230312T070000
END:DAYLIGHT
BEGIN:STANDARD
TZOFFSETFROM:-0400
TZOFFSETTO:-0500
TZNAME:EST
DTSTART:20231105T060000
END:STANDARD
BEGIN:DAYLIGHT
TZOFFSETFROM:-0500
TZOFFSETTO:-0400
TZNAME:EDT
DTSTART:20240310T070000
END:DAYLIGHT
BEGIN:STANDARD
TZOFFSETFROM:-0400
TZOFFSETTO:-0500
TZNAME:EST
DTSTART:20241103T060000
END:STANDARD
BEGIN:DAYLIGHT
TZOFFSETFROM:-0500
TZOFFSETTO:-0400
TZNAME:EDT
DTSTART:20250309T070000
END:DAYLIGHT
BEGIN:STANDARD
TZOFFSETFROM:-0400
TZOFFSETTO:-0500
TZNAME:EST
DTSTART:20251102T060000
END:STANDARD
END:VTIMEZONE
BEGIN:VEVENT
DTSTART;TZID=America/Detroit:20240504T000000
DTEND;TZID=America/Detroit:20240512T000000
DTSTAMP:20260421T185518
CREATED:20240325T193520Z
LAST-MODIFIED:20240325T193520Z
UID:24279-1714780800-1715472000@caronkoteles.com
SUMMARY:Tulip Time Festival in May\, 2024 - Downtown Holland\, MI
DESCRIPTION:Save the date for our 95th anniversary May 4 – 12\, 2024! There will be millions of tulips in bloom along with visitors\, locals\, volunteers\, participants and sponsors all coming together to celebrate. \nSince 1929\, the city of Holland\, Michigan has blossomed with literally hundreds of thousands of tulips — and an equal number of tulip-lovers who attend our annual Tulip Time Festival.  And the celebration is so much more than tulips… with national entertainment acts\, events & activities for all ages\, breathtaking sights just off the shores of Lake Michigan and some of the largest parades in Michigan. Tulip Time is truly an experience you don’t want to miss! \n– Downtown Holland\n42 W. 8th Street\, Holland\, MI 49423
URL:https://caronkoteles.com/event/tulip-time-festival-in-may-2024-downtown-holland-mi/
END:VEVENT
BEGIN:VEVENT
DTSTART;TZID=America/Detroit:20240505T090000
DTEND;TZID=America/Detroit:20240505T130000
DTSTAMP:20260421T185518
CREATED:20240502T161121Z
LAST-MODIFIED:20240502T161121Z
UID:24793-1714899600-1714914000@caronkoteles.com
SUMMARY:Washington Twp: Blood Drive!
DESCRIPTION:Washington Township: Blood Drive; 9am- 1pm; SS. John & Paul Church\, 7777 28 Mile; 866-642-5663\, https://donate.michigan.versiti.org/donor/schedules/drive_schedule/158878
URL:https://caronkoteles.com/event/washington-twp-blood-drive/
END:VEVENT
END:VCALENDAR