BEGIN:VCALENDAR
VERSION:2.0
PRODID:-//Caron Koteles Riha - ECPv6.15.20//NONSGML v1.0//EN
CALSCALE:GREGORIAN
METHOD:PUBLISH
X-ORIGINAL-URL:https://caronkoteles.com
X-WR-CALDESC:Events for Caron Koteles Riha
REFRESH-INTERVAL;VALUE=DURATION:PT1H
X-Robots-Tag:noindex
X-PUBLISHED-TTL:PT1H
BEGIN:VTIMEZONE
TZID:America/Detroit
BEGIN:DAYLIGHT
TZOFFSETFROM:-0500
TZOFFSETTO:-0400
TZNAME:EDT
DTSTART:20230312T070000
END:DAYLIGHT
BEGIN:STANDARD
TZOFFSETFROM:-0400
TZOFFSETTO:-0500
TZNAME:EST
DTSTART:20231105T060000
END:STANDARD
BEGIN:DAYLIGHT
TZOFFSETFROM:-0500
TZOFFSETTO:-0400
TZNAME:EDT
DTSTART:20240310T070000
END:DAYLIGHT
BEGIN:STANDARD
TZOFFSETFROM:-0400
TZOFFSETTO:-0500
TZNAME:EST
DTSTART:20241103T060000
END:STANDARD
BEGIN:DAYLIGHT
TZOFFSETFROM:-0500
TZOFFSETTO:-0400
TZNAME:EDT
DTSTART:20250309T070000
END:DAYLIGHT
BEGIN:STANDARD
TZOFFSETFROM:-0400
TZOFFSETTO:-0500
TZNAME:EST
DTSTART:20251102T060000
END:STANDARD
END:VTIMEZONE
BEGIN:VEVENT
DTSTART;TZID=America/Detroit:20240522T000000
DTEND;TZID=America/Detroit:20240616T000000
DTSTAMP:20260421T155440
CREATED:20240520T144421Z
LAST-MODIFIED:20240520T144421Z
UID:25139-1716336000-1718496000@caronkoteles.com
SUMMARY:The Grand Rapids Lantern Festival
DESCRIPTION:Check out this truly breathtaking experience for limited time at John Ball Zoo! The Grand Rapids Lantern Festival will feature handcrafted Asian lantern displays that will illuminate the Zoo and tell the intersecting story of wildlife and Asian culture. John Ball Zoo is the first and only place you can see these incredible works of art in Michigan. We promise\, you aren’t going to want to miss this! Grab your tickets now!  \nCheck out the Grand Rapids Lantern Festival Reel here: https://www.instagram.com/p/C5rMv4Oph0h/ \nMore information:  \n-Timed tickets are sold every 30 minutes. Advanced tickets are required. \n-The last entry is at 10:30pm. \n-The event will happen rain or shine! \nJohn Ball Zoo\n1300 W. Fulton St.\, Grand Rapids\, MI 49504
URL:https://caronkoteles.com/event/the-grand-rapids-lantern-festival/
END:VEVENT
BEGIN:VEVENT
DTSTART;TZID=America/Detroit:20240531T180000
DTEND;TZID=America/Detroit:20240531T220000
DTSTAMP:20260421T155440
CREATED:20240520T144956Z
LAST-MODIFIED:20240520T144956Z
UID:25150-1717178400-1717192800@caronkoteles.com
SUMMARY:2nd Annual Perfect Pairings - Food & Spirits Festival! Royal Oak\, Michigan!
DESCRIPTION:A drinking adventure like no other! \nExperience the vibrant atmosphere as you explore the diverse offerings\, from savory street tacos to delectable desserts. Discover the perfect pairing for your taste buds\, whether it’s whether it’s a refreshing craft beer or a specialty cocktail! \nProceeds Benefit Omniwomyn\nEach year\, a women-based nonprofit is selected through The Pink List\, a 501(c)3 non-profit designed to support women based organizations\, to receive a portion of the proceeds. This donation is made with intentions on helping the chosen organization to carry out their mission and fund any current initiatives. \nPurchase Tickets: https://www.the28experience.com/event-details-registration/perfect-pairings
URL:https://caronkoteles.com/event/2nd-annual-perfect-pairings-food-spirits-festival-royal-oak-michigan/
END:VEVENT
END:VCALENDAR