BEGIN:VCALENDAR
VERSION:2.0
PRODID:-//Caron Koteles Riha - ECPv6.15.20//NONSGML v1.0//EN
CALSCALE:GREGORIAN
METHOD:PUBLISH
X-WR-CALNAME:Caron Koteles Riha
X-ORIGINAL-URL:https://caronkoteles.com
X-WR-CALDESC:Events for Caron Koteles Riha
REFRESH-INTERVAL;VALUE=DURATION:PT1H
X-Robots-Tag:noindex
X-PUBLISHED-TTL:PT1H
BEGIN:VTIMEZONE
TZID:America/Detroit
BEGIN:DAYLIGHT
TZOFFSETFROM:-0500
TZOFFSETTO:-0400
TZNAME:EDT
DTSTART:20230312T070000
END:DAYLIGHT
BEGIN:STANDARD
TZOFFSETFROM:-0400
TZOFFSETTO:-0500
TZNAME:EST
DTSTART:20231105T060000
END:STANDARD
BEGIN:DAYLIGHT
TZOFFSETFROM:-0500
TZOFFSETTO:-0400
TZNAME:EDT
DTSTART:20240310T070000
END:DAYLIGHT
BEGIN:STANDARD
TZOFFSETFROM:-0400
TZOFFSETTO:-0500
TZNAME:EST
DTSTART:20241103T060000
END:STANDARD
BEGIN:DAYLIGHT
TZOFFSETFROM:-0500
TZOFFSETTO:-0400
TZNAME:EDT
DTSTART:20250309T070000
END:DAYLIGHT
BEGIN:STANDARD
TZOFFSETFROM:-0400
TZOFFSETTO:-0500
TZNAME:EST
DTSTART:20251102T060000
END:STANDARD
END:VTIMEZONE
BEGIN:VEVENT
DTSTART;TZID=America/Detroit:20240522T000000
DTEND;TZID=America/Detroit:20240616T000000
DTSTAMP:20260421T155213
CREATED:20240520T144421Z
LAST-MODIFIED:20240520T144421Z
UID:25139-1716336000-1718496000@caronkoteles.com
SUMMARY:The Grand Rapids Lantern Festival
DESCRIPTION:Check out this truly breathtaking experience for limited time at John Ball Zoo! The Grand Rapids Lantern Festival will feature handcrafted Asian lantern displays that will illuminate the Zoo and tell the intersecting story of wildlife and Asian culture. John Ball Zoo is the first and only place you can see these incredible works of art in Michigan. We promise\, you aren’t going to want to miss this! Grab your tickets now!  \nCheck out the Grand Rapids Lantern Festival Reel here: https://www.instagram.com/p/C5rMv4Oph0h/ \nMore information:  \n-Timed tickets are sold every 30 minutes. Advanced tickets are required. \n-The last entry is at 10:30pm. \n-The event will happen rain or shine! \nJohn Ball Zoo\n1300 W. Fulton St.\, Grand Rapids\, MI 49504
URL:https://caronkoteles.com/event/the-grand-rapids-lantern-festival/
END:VEVENT
BEGIN:VEVENT
DTSTART;TZID=America/Detroit:20240601T000000
DTEND;TZID=America/Detroit:20240922T170000
DTSTAMP:20260421T155213
CREATED:20240520T144554Z
LAST-MODIFIED:20240520T144554Z
UID:25143-1717200000-1727024400@caronkoteles.com
SUMMARY:Michigan Antique Festival I Midland
DESCRIPTION:The Midland Antique Festival is the state’s largest antique market and the host of Mid-Michigan’s biggest classic car show & swap meet. This event blends the excitement of discovering rare antiques with the allure of vintage automobiles\, offering a unique experience for collectors and car enthusiasts in the picturesque setting of Midland. A must-visit for anyone passionate about history or classic cars. \nMidland County Fairgrounds\n6905 Eastman Avenue\, Midland\, MI 48642
URL:https://caronkoteles.com/event/michigan-antique-festival-i-midland/
END:VEVENT
BEGIN:VEVENT
DTSTART;TZID=America/Detroit:20240602T000000
DTEND;TZID=America/Detroit:20240609T000000
DTSTAMP:20260421T155213
CREATED:20240520T145135Z
LAST-MODIFIED:20240520T145135Z
UID:25153-1717286400-1717891200@caronkoteles.com
SUMMARY:Royal Oak Restaurant Week!
DESCRIPTION:June 2nd to June 9th! \nEnjoy 3-course lunch and dinner menus from top downtown restaurants! \nMore info: https://www.dineroyaloak.org/royal-oak-restaurant-week
URL:https://caronkoteles.com/event/royal-oak-restaurant-week/
END:VEVENT
BEGIN:VEVENT
DTSTART;TZID=America/Detroit:20240607T080000
DTEND;TZID=America/Detroit:20240616T170000
DTSTAMP:20260421T155213
CREATED:20240325T195800Z
LAST-MODIFIED:20240325T195800Z
UID:24298-1717747200-1718557200@caronkoteles.com
SUMMARY:Mackinac Island Lilac Festival!
DESCRIPTION:Mackinac Island is celebrating our 76th Annual Lilac Festival\, June 7 -16\, 2024. It’s the first and largest summer event on the Island\, attracting thousands of visitors from all over the country. Festivities for the 10-day festival include the coronation of the Lilac Festival Queen\, Lilac Poster reveal\, daily lilac walking tours and planting sessions\, Lilac Festival Run/Walk\, concerts in the park\, movie in the fort\, Cornhole Tournament\, Grand Parade and more! \n– Mackinac Island\n7274 Main Street\, Mackinac Island\, MI 49757
URL:https://caronkoteles.com/event/mackinac-island-lilac-festival/
END:VEVENT
BEGIN:VEVENT
DTSTART;TZID=America/Detroit:20240608T140000
DTEND;TZID=America/Detroit:20240608T190000
DTSTAMP:20260421T155213
CREATED:20240520T144650Z
LAST-MODIFIED:20240520T144650Z
UID:25145-1717855200-1717873200@caronkoteles.com
SUMMARY:Art\, Beer\, and Wine Festival
DESCRIPTION:Join your friends (and make new ones) at Ella Sharp Museum’s 19th annual Art\, Beer & Wine Festival presented by County National Bank. A favorite community tradition\, we’ll showcase many of Michigan’s best wineries\, breweries\, cider mills and artists. Guests also will enjoy a tasty line-up of food vendors and trucks along with live music throughout the grounds and in our historic Hillside Farm Lane courtyard for a perfect summer day. \nElla Sharp Museum\n3225 Fourth Street\, Jackson\, MI 49203
URL:https://caronkoteles.com/event/art-beer-and-wine-festival/
END:VEVENT
END:VCALENDAR