BEGIN:VCALENDAR
VERSION:2.0
PRODID:-//Caron Koteles Riha - ECPv6.15.20//NONSGML v1.0//EN
CALSCALE:GREGORIAN
METHOD:PUBLISH
X-WR-CALNAME:Caron Koteles Riha
X-ORIGINAL-URL:https://caronkoteles.com
X-WR-CALDESC:Events for Caron Koteles Riha
REFRESH-INTERVAL;VALUE=DURATION:PT1H
X-Robots-Tag:noindex
X-PUBLISHED-TTL:PT1H
BEGIN:VTIMEZONE
TZID:America/Detroit
BEGIN:DAYLIGHT
TZOFFSETFROM:-0500
TZOFFSETTO:-0400
TZNAME:EDT
DTSTART:20230312T070000
END:DAYLIGHT
BEGIN:STANDARD
TZOFFSETFROM:-0400
TZOFFSETTO:-0500
TZNAME:EST
DTSTART:20231105T060000
END:STANDARD
BEGIN:DAYLIGHT
TZOFFSETFROM:-0500
TZOFFSETTO:-0400
TZNAME:EDT
DTSTART:20240310T070000
END:DAYLIGHT
BEGIN:STANDARD
TZOFFSETFROM:-0400
TZOFFSETTO:-0500
TZNAME:EST
DTSTART:20241103T060000
END:STANDARD
BEGIN:DAYLIGHT
TZOFFSETFROM:-0500
TZOFFSETTO:-0400
TZNAME:EDT
DTSTART:20250309T070000
END:DAYLIGHT
BEGIN:STANDARD
TZOFFSETFROM:-0400
TZOFFSETTO:-0500
TZNAME:EST
DTSTART:20251102T060000
END:STANDARD
END:VTIMEZONE
BEGIN:VEVENT
DTSTART;TZID=America/Detroit:20240601T000000
DTEND;TZID=America/Detroit:20240922T170000
DTSTAMP:20260421T155135
CREATED:20240520T144554Z
LAST-MODIFIED:20240520T144554Z
UID:25143-1717200000-1727024400@caronkoteles.com
SUMMARY:Michigan Antique Festival I Midland
DESCRIPTION:The Midland Antique Festival is the state’s largest antique market and the host of Mid-Michigan’s biggest classic car show & swap meet. This event blends the excitement of discovering rare antiques with the allure of vintage automobiles\, offering a unique experience for collectors and car enthusiasts in the picturesque setting of Midland. A must-visit for anyone passionate about history or classic cars. \nMidland County Fairgrounds\n6905 Eastman Avenue\, Midland\, MI 48642
URL:https://caronkoteles.com/event/michigan-antique-festival-i-midland/
END:VEVENT
BEGIN:VEVENT
DTSTART;TZID=America/Detroit:20240621T160000
DTEND;TZID=America/Detroit:20240622T220000
DTSTAMP:20260421T155135
CREATED:20240520T150816Z
LAST-MODIFIED:20240520T150816Z
UID:25158-1718985600-1719093600@caronkoteles.com
SUMMARY:Summerfest 2024! Downtown Auburn Hills\, MI
DESCRIPTION:Each year downtown Auburn Hills hosts a summer extravaganza celebrating all the things we love about summer! Summerfest will be filled with fun\, food\, music\, and activities that are great for the whole family! \nIce Cream Social\nFriday 6:00 – 7:00 PM | Riverside Park Plaza \nMaker’s Market\nFriday 4:00 – 8:00 PM & Saturday 11:00 AM – 8:00 PM | Auburn Road\nApply at auburnhills.org/summerfest by April 30! \nClassic Car Show by the River\nSaturday 10:00 AM – 3:00 PM | Riverside Park \nLive Music\nSteve Floyd | Friday 5:00 – 7:00 PM | Knight Amphitheater\nMagic Bus | Friday 8:00 – 10:00 PM | Knight Amphitheater\nGuy Lewis and Worlds of Music | Saturday 2:00 – 4:00 PM | Knight Amphitheater\nMandi Layne and the Lost Highway | Saturday 5:00 – 7:00 PM | Knight Amphitheater\nAtomic Radio | Saturday 8:00 – 10:00 PM | Knight Amphitheater \nFood Trucks\nSaturday 11:00 AM – 7:30 PM | Riverside Park \nAdditional Information\nContact Auburn Hills Recreation and Senior Services at (248) 370-9353.
URL:https://caronkoteles.com/event/summerfest-2024-downtown-auburn-hills-mi/
END:VEVENT
END:VCALENDAR