BEGIN:VCALENDAR
VERSION:2.0
PRODID:-//Caron Koteles Riha - ECPv6.15.20//NONSGML v1.0//EN
CALSCALE:GREGORIAN
METHOD:PUBLISH
X-ORIGINAL-URL:https://caronkoteles.com
X-WR-CALDESC:Events for Caron Koteles Riha
REFRESH-INTERVAL;VALUE=DURATION:PT1H
X-Robots-Tag:noindex
X-PUBLISHED-TTL:PT1H
BEGIN:VTIMEZONE
TZID:America/Detroit
BEGIN:DAYLIGHT
TZOFFSETFROM:-0500
TZOFFSETTO:-0400
TZNAME:EDT
DTSTART:20230312T070000
END:DAYLIGHT
BEGIN:STANDARD
TZOFFSETFROM:-0400
TZOFFSETTO:-0500
TZNAME:EST
DTSTART:20231105T060000
END:STANDARD
BEGIN:DAYLIGHT
TZOFFSETFROM:-0500
TZOFFSETTO:-0400
TZNAME:EDT
DTSTART:20240310T070000
END:DAYLIGHT
BEGIN:STANDARD
TZOFFSETFROM:-0400
TZOFFSETTO:-0500
TZNAME:EST
DTSTART:20241103T060000
END:STANDARD
BEGIN:DAYLIGHT
TZOFFSETFROM:-0500
TZOFFSETTO:-0400
TZNAME:EDT
DTSTART:20250309T070000
END:DAYLIGHT
BEGIN:STANDARD
TZOFFSETFROM:-0400
TZOFFSETTO:-0500
TZNAME:EST
DTSTART:20251102T060000
END:STANDARD
END:VTIMEZONE
BEGIN:VEVENT
DTSTART;TZID=America/Detroit:20240601T000000
DTEND;TZID=America/Detroit:20240922T170000
DTSTAMP:20260421T143511
CREATED:20240520T144554Z
LAST-MODIFIED:20240520T144554Z
UID:25143-1717200000-1727024400@caronkoteles.com
SUMMARY:Michigan Antique Festival I Midland
DESCRIPTION:The Midland Antique Festival is the state’s largest antique market and the host of Mid-Michigan’s biggest classic car show & swap meet. This event blends the excitement of discovering rare antiques with the allure of vintage automobiles\, offering a unique experience for collectors and car enthusiasts in the picturesque setting of Midland. A must-visit for anyone passionate about history or classic cars. \nMidland County Fairgrounds\n6905 Eastman Avenue\, Midland\, MI 48642
URL:https://caronkoteles.com/event/michigan-antique-festival-i-midland/
END:VEVENT
BEGIN:VEVENT
DTSTART;VALUE=DATE:20240718
DTEND;VALUE=DATE:20240811
DTSTAMP:20260421T143511
CREATED:20240725T154106Z
LAST-MODIFIED:20240725T154106Z
UID:26836-1721260800-1723334399@caronkoteles.com
SUMMARY:Rochester\, MI Explorers Club
DESCRIPTION:The Rochester Explorers Club is back!  Don’t miss this wonderful opportunity for kids of all ages to get out and explore all that our community has to offer.  Complete as many activities as you like from July 18 – August 10.  Whether you choose one activity or try to complete them all\, the goal is to just have fun! \nRegister starting July 18 at the Downtown Collaboration Studio\, 431 Main Street from 10 am – 5 pm.  Participation is free. \nThe Rochester Explorers Club is sponsored by the City of Rochester and Downtown Rochester.
URL:https://caronkoteles.com/event/rochester-mi-explorers-club/
END:VEVENT
BEGIN:VEVENT
DTSTART;TZID=America/Detroit:20240727T080000
DTEND;TZID=America/Detroit:20240727T130000
DTSTAMP:20260421T143511
CREATED:20240725T152922Z
LAST-MODIFIED:20240725T152922Z
UID:26807-1722067200-1722085200@caronkoteles.com
SUMMARY:Downtown Rochester Farmers' Market!
DESCRIPTION:Saturdays\, May – October\n8:00 am – 1:00 pm\nCorner of E. Third & Water St. \nMeet us the market – where friends and families can access the freshest\, locally grown Michigan-made products. Celebrating it’s 25th season\, the Farmers’ Market is a frequent stop for area residents to enjoy the vibrant colors\, aromas and flavors of southeast Michigan’s growing season. \nLooking for farm fresh flavors  Look no further than the Downtown Rochester  Farmers’ Market. The market will feature a variety of fresh produce\, herbs\, flowers\, specialty foods\, including gourmet coffee\, salsa\, fresh bread\, and much more!  \nVENDORS: \nVendor attendance may vary week to week\, if you’re looking for a specific business check out our ‘weekly market map’ below or follow our Facebook and Instagram – @DowntownRochesterFarmers’ Market\nAngela’s Treat Stash: Handcrafted satisfying pet treats made with high quality ingredients so you can spoil your four-legged family members worry free.\nBecause UR Priceless Tea Co. : A spice and tea shop with all organic ingredients. Online orders available.\nBelledine BBQ: The Barbecue Sauce that is not just for grilling. Pour it on\, dip it or add it to your favorite recipe. All natural\, gluten free\, no MSG\, no corn syrup and vegetarian-friendly\nBotany Birmingham: Offering a selection of tropical\, rare\, and some common house plants\nThe Cheese Lady – Rochester : Offering 150 artisan cheeses from all over the world as well as accompaniments.\nDeMeulenaere Farms : Washington Twp. Farm\nDenton Coffee Co.: Local to Rochester! Specialty coffee and flavors\,  using 100% premium Arabica beans from around the world. Online orders available.\nThe Feminine Farmer: A 20 acre farm located in Grand Blanc. Dedicated to growing with organic and heirloom non-GMO seeds (with a few exceptions of plant starts we buy in) and organic soil to grow our seedlings. Using certified organic compost to feed their plants. No chemicals\, pesticides or fertilizers.\nFreeman Meat Co.: Freeman Meat Co. is proud to bring locally raised farm fresh meat to mid-Michigan and Metro Detroit. Their animals are all raised on a family farm with food grown themselves\, and processed in a USDA approved facility.\nGood Lookin Hot Sauce: local creator of tasty hot sauce for all spice lovers.\nGreat Harvest Bread Co. – Shelby Twp.: It’s simple\, handmade\, wholesome\, tasty bread! Offering a variety of flavors in breads\, scones\, muffins and more!\nGrow to Give Garden : A community garden that was launched  on the grounds of Faith Church in 2018\, with the purpose of growing produce for people in need in the Rochester/Rochester Hills community and surrounding areas.\nHoney Blossom Homestead: is a Rochester Hills direct to community” farm. Specializing in microgreens\, sourdough bread \, seasonal produce\, eggs.\nKutchey Family Farm: A third generation family farm\, located in Macomb Township. Bringing the highest quality plants\, fruits\, and vegetables from their family to yours.\nKrysia’s Kitchen: Authentic Polish cuisine.\nThe Little Donut Factory: Served hot and fresh off their food truck. These mini donuts come plain or with cinnamon sugar with a choice of drizzle.\nPapa’s Kitchen: Small batch dressing to help you turn an ordinary meal into something extraordinary…with a touch of love from Papa’s Kitchen.\nPure Mackinac: Fresh fish products caught from the Straits of Mackinac.\nMi Juice: An all organically cold-pressed\, ethically sourced raw juice company.\nMiller’s Medley: Almont Farm\nMimidae Beverage Co:  Non alcoholic craft cocktail mixers\, shrubs and syrups for everyone. Add alcohol or don’t\, you won’t even miss it\, the choice is yours!\nMoon Mushrooms: Gourmet Mushrooms\nOui Pastry: Specializes in French Macarons\nRaub-Rae Gardens: Brown City Certified Organic Farm.\nTaste of Petra: amily owned business bringing you the best olive oil and food products Jordan has to offer.\nThe Real Renee: is an allergy friendly company. All of our products are free from the nine main food allergens plus coconut.\nReinhardt Blooms: Kawkawlin flower farm. Family owned since 1880.\nSaffron & Salt: a Michigan-based condiment company offering our signature candied jalapeños.\nSchmookies Cookie Emporium: Creating the ultimate hand-held desserts. The ‘Yorkie’ is one of their signature cookies.\nSharKar Farms: Farm located in China\, MI. Offering a large variety of herbs\, vegetables\, plants and succulents. Online pre-orders available.\nSpencer Apiaries: 31 apiary hives located in Oakland Twp. Offering an assortment of raw honey\, candles\, lotions\, and lip balms.\nThe Spice & Tea Exchange of Rochester: Rochester retailer selling a wide range of spices & exotic teas\, plus olive oils\, extracts & more.\nSummer Dreams Farms: fresh cut flower farm specializing in Dahlias August to September and tubers in the spring. Located in Oxford.\nTracina’s Gourmet Specialties: Homemade from scratch with clean and local ingredients – gnocchi\, lasagna\nUhlianuk Specialties from the Farm: North Branch Farm specializing in herbs\, cut flowers\, produce and floral designs\nUncle Henry’s Gourmet Meats: Offering a wide variety of snack sticks\, jerky\, fresh & smoked sausage\nUnWined Winery: Local Shelby Twp. Winery\nVienna Treats: Specializing in holiday themed cookie boxes\, custom cookie orders and teaching cookie decorating classes!\nVintage Pie Co.: Making Pies\, Gourmet\, Italian and Eastern European goodies from Metamora\, MI\nWHY Bars: are the healthiest and best tasting energy bars on the planet! Our bars are soy-free\, dairy-free\, gluten-free and made with organic ingredients.
URL:https://caronkoteles.com/event/downtown-rochester-farmers-market-13/
END:VEVENT
BEGIN:VEVENT
DTSTART;TZID=America/Detroit:20240727T170000
DTEND;TZID=America/Detroit:20240727T220000
DTSTAMP:20260421T143511
CREATED:20240725T150656Z
LAST-MODIFIED:20240725T150656Z
UID:26787-1722099600-1722117600@caronkoteles.com
SUMMARY:Michigan Uptown Night Market!
DESCRIPTION:GET READY TO ROCK!!\nMI Uptown Night Market is excited to announce our July’s night market band @weekend comeback coming to perform on July 27th at Big Red Orchard! \nWeekend ComeBack\, a local band FAV will make you want to “💃🕺 dance” the night away for an unforgettable evening under night market lights. \nLet us know you are coming :)🍎\nhttps://www.facebook.com/events/3238163063156140\nBring the whole family\, there is something for *everyone* …\n°Kid Fun\n°Food Trucks\n°Big Red’s Indoor Legacy Bar\n°Outdoor Bar\n°Live Music\n°Strolling Shopping from over 45 Local Artisans\n°Beautiful Orchard grounds\n°Chair Massage\n°& SO. MUCH. MORE!\nOpen from 5pm-10pm We can’t wait to see you! \n07/27/24\nUptown Night Market @ Big Red Orchard\n4900 32 Mile Rd\nWashington\, MI
URL:https://caronkoteles.com/event/michigan-uptown-night-market/
END:VEVENT
BEGIN:VEVENT
DTSTART;TZID=America/Detroit:20240727T190000
DTEND;TZID=America/Detroit:20240727T190000
DTSTAMP:20260421T143511
CREATED:20240725T154225Z
LAST-MODIFIED:20240725T154225Z
UID:26838-1722106800-1722106800@caronkoteles.com
SUMMARY:Downtown Rochester's Movies in the Moonlight - July 20\, 27 & August 3
DESCRIPTION:July 20\, 27 & august 3 \nMovies in the Moonlight is located in the parking lot at the corner of E. Third & Water\, one block east of Main.  The movie lot opens at 7:00 pm and the featured movie begins around 8:30 pm.  Admission is free! \nMovies in the Moonlight is BYOC (Bring Your Own Chairs)! You will not be able to drop your chairs early in the day. \nThe Little Donut Factory will be at each movie this year! They will be selling fresh hot mini donuts with a variety of toppings\, popcorn\, lemonade\, soda\, and bottled water. If you decide to bring your own goodies\, please remember no alcohol\, or glass containers are allowed in the movie lot. \n7/27 – The Super Mario Bro. Movie (PG) \nPre-show: Visit Fredal Orthodontics booth for a photo opportunity with Mario and Princess Peach!
URL:https://caronkoteles.com/event/downtown-rochesters-movies-in-the-moonlight-july-20-27-august-3/
END:VEVENT
END:VCALENDAR