BEGIN:VCALENDAR
VERSION:2.0
PRODID:-//Caron Koteles Riha - ECPv6.15.20//NONSGML v1.0//EN
CALSCALE:GREGORIAN
METHOD:PUBLISH
X-WR-CALNAME:Caron Koteles Riha
X-ORIGINAL-URL:https://caronkoteles.com
X-WR-CALDESC:Events for Caron Koteles Riha
REFRESH-INTERVAL;VALUE=DURATION:PT1H
X-Robots-Tag:noindex
X-PUBLISHED-TTL:PT1H
BEGIN:VTIMEZONE
TZID:America/Detroit
BEGIN:DAYLIGHT
TZOFFSETFROM:-0500
TZOFFSETTO:-0400
TZNAME:EDT
DTSTART:20240310T070000
END:DAYLIGHT
BEGIN:STANDARD
TZOFFSETFROM:-0400
TZOFFSETTO:-0500
TZNAME:EST
DTSTART:20241103T060000
END:STANDARD
BEGIN:DAYLIGHT
TZOFFSETFROM:-0500
TZOFFSETTO:-0400
TZNAME:EDT
DTSTART:20250309T070000
END:DAYLIGHT
BEGIN:STANDARD
TZOFFSETFROM:-0400
TZOFFSETTO:-0500
TZNAME:EST
DTSTART:20251102T060000
END:STANDARD
BEGIN:DAYLIGHT
TZOFFSETFROM:-0500
TZOFFSETTO:-0400
TZNAME:EDT
DTSTART:20260308T070000
END:DAYLIGHT
BEGIN:STANDARD
TZOFFSETFROM:-0400
TZOFFSETTO:-0500
TZNAME:EST
DTSTART:20261101T060000
END:STANDARD
END:VTIMEZONE
BEGIN:VEVENT
DTSTART;TZID=America/Detroit:20250201T080000
DTEND;TZID=America/Detroit:20250228T170000
DTSTAMP:20260421T054129
CREATED:20250219T201124Z
LAST-MODIFIED:20250219T201124Z
UID:30623-1738396800-1740762000@caronkoteles.com
SUMMARY:Foodie February! February 2025
DESCRIPTION:Dine-in or carry-out at one or more participating businesses during the month of February and enter for a chance to win a $500 \, a $250 or a $100 Dining Package! \nSTEP ONE: Dine-in or carry-out at any restaurant in the City of Rochester. See below for a list of participating businesses.\nSTEP TWO: Collect restaurant receipts throughout the month.\nSTEP THREE: Bring Receipts for validation and enter-to-win at the DDA’s Downtown Collaboration Studio during regular business hours.  \nDowntown Collaboration Studio (431 Main Street)\nOpen Monday – Friday\, 10 am – 5 pm \nCan’t make it during business hours?\nText FOODIE to 866-603-4005 and you will be prompted to send in a picture of your receipt. \nTHE RULES: \nAll receipts must be validated by close of business on Feb. 28.\nDiners will receive one entry for every receipt turned in from a participating business.\nDiners cannot win multiple shopping sprees.\nWinners will be announced & contacted on Monday\, March 3. \nFollow Downtown Rochester on Social Media for Foodie Friday Drawings!
URL:https://caronkoteles.com/event/foodie-february-february-2025/
END:VEVENT
BEGIN:VEVENT
DTSTART;TZID=America/Detroit:20250201T080000
DTEND;TZID=America/Detroit:20250411T170000
DTSTAMP:20260421T054129
CREATED:20250219T201805Z
LAST-MODIFIED:20250219T201805Z
UID:30630-1738396800-1744390800@caronkoteles.com
SUMMARY:Deck Art: Artist Registration
DESCRIPTION:Artist registration takes place February 1 – April 11 (while supplies last) at South Street Skateshop (410 Main).  \nWho: Elementary School\, Middle School\, High School\, College and Adult. \nWhat: Unleash the artist in you! Join us for downtown Rochester’s 15th annual skateboard art exhibition  and competition! Participants are given a blank skateboard deck to use as their canvas; any medium is acceptable for 2 and 3-dimensional pieces. \nWhere: Completed artwork will be placed on display throughout as many as 50 businesses in downtown Rochester. Onlookers can enjoy and admire these uniquely designed pieces of artwork\n while strolling in and out of businesses. \nWhen: May 15 & 16\, 5:00 – 9:00 pm. \nDeck Cost: $25.00 (plus tax) Registration and deck pick up at South Street Skateshop\, 410 Main Street (while supplies last).  \nJudging: A panel of judges will choose a winner in each category. Prizes awarded. \nSell Your Deck Art: All proceeds belong to you; or keep your artwork\, it’s yours!!
URL:https://caronkoteles.com/event/deck-art-artist-registration/
END:VEVENT
BEGIN:VEVENT
DTSTART;TZID=America/Detroit:20250223T110000
DTEND;TZID=America/Detroit:20250223T170000
DTSTAMP:20260421T054129
CREATED:20250219T205312Z
LAST-MODIFIED:20250219T205312Z
UID:30644-1740308400-1740330000@caronkoteles.com
SUMMARY:Michigan Made Market
DESCRIPTION:The Michigan Made Market is a carefully curated collection of work made by local artists. Many of your old favorites will be here as well as some fabulous new artists premiering here this market. \nClawson\, MI!
URL:https://caronkoteles.com/event/michigan-made-market-2/
END:VEVENT
BEGIN:VEVENT
DTSTART;TZID=America/Detroit:20250223T110000
DTEND;TZID=America/Detroit:20250223T180000
DTSTAMP:20260421T054129
CREATED:20250219T205646Z
LAST-MODIFIED:20250219T205646Z
UID:30649-1740308400-1740333600@caronkoteles.com
SUMMARY:Ice Fest 2025
DESCRIPTION:Join us for our 2025 Ice Festival on our fabulous outdoor patio! This year we are doing a 2 day event! \nMark your calendars for Saturday and Sunday\, February 22nd-23rd\, for two days packed with fun and excitement! \nWe’ll be lighting up the fire pits for you to enjoy beautiful ice-carved sculptures! \nEnjoy our ice sculptures\, hot coffee\, a deluxe hot chocolate bar\, and rare beers! \nThis event is family-friendly and FREE to attend\, making it perfect for all ages! \nOn the first day\, February 22nd\, from 2-7 PM we will feature ice sculptures\, an assortment of rare beers\, a hot chocolate bar\, hot coffee\, and hot cider! \nOn the second day\, February 23rd\, join us for brunch! \nEnjoy our brunch specials\, where kids can enjoy a free kid’s brunch dish with the purchase of any adult entrée! (11-3 only) Don’t miss the chance to admire our ice sculptures\, join us for Marvel-themed trivia starting at 2 PM\, meet Spidey Hero from the marvel universe from 1:30-2:30\, and join us for bingo starting at 6 PM! \nPlease note that brunch is available from 11 AM – 3 PM \nWe can’t wait to see you there!
URL:https://caronkoteles.com/event/ice-fest-2025-2/
END:VEVENT
END:VCALENDAR