BEGIN:VCALENDAR
VERSION:2.0
PRODID:-//Caron Koteles Riha - ECPv6.15.20//NONSGML v1.0//EN
CALSCALE:GREGORIAN
METHOD:PUBLISH
X-WR-CALNAME:Caron Koteles Riha
X-ORIGINAL-URL:https://caronkoteles.com
X-WR-CALDESC:Events for Caron Koteles Riha
REFRESH-INTERVAL;VALUE=DURATION:PT1H
X-Robots-Tag:noindex
X-PUBLISHED-TTL:PT1H
BEGIN:VTIMEZONE
TZID:America/Detroit
BEGIN:DAYLIGHT
TZOFFSETFROM:-0500
TZOFFSETTO:-0400
TZNAME:EDT
DTSTART:20250309T070000
END:DAYLIGHT
BEGIN:STANDARD
TZOFFSETFROM:-0400
TZOFFSETTO:-0500
TZNAME:EST
DTSTART:20251102T060000
END:STANDARD
BEGIN:DAYLIGHT
TZOFFSETFROM:-0500
TZOFFSETTO:-0400
TZNAME:EDT
DTSTART:20260308T070000
END:DAYLIGHT
BEGIN:STANDARD
TZOFFSETFROM:-0400
TZOFFSETTO:-0500
TZNAME:EST
DTSTART:20261101T060000
END:STANDARD
BEGIN:DAYLIGHT
TZOFFSETFROM:-0500
TZOFFSETTO:-0400
TZNAME:EDT
DTSTART:20270314T070000
END:DAYLIGHT
BEGIN:STANDARD
TZOFFSETFROM:-0400
TZOFFSETTO:-0500
TZNAME:EST
DTSTART:20271107T060000
END:STANDARD
END:VTIMEZONE
BEGIN:VEVENT
DTSTART;TZID=America/Detroit:20260613T100000
DTEND;TZID=America/Detroit:20260613T180000
DTSTAMP:20260424T122238
CREATED:20260323T154641Z
LAST-MODIFIED:20260323T154802Z
UID:40080-1781344800-1781373600@caronkoteles.com
SUMMARY:Summer - Makers' Market - Downtown Rochester\, Michigan
DESCRIPTION:June 13\, 10:00 am – 6:00 pm on W. Fourth St.  \nAre you ready to immerse yourself in the creativity of your community? Look no further than the Downtown Rochester Makers’ Market!  \nThis artisanal\, crafter vendor open air show is the perfect place to experience the unique and handcrafted works of local\, small businesses. You’ll find an incredible selection of handmade products that showcase the artistry and talent of the community. From jewelry and pottery to woodworking and textiles\, there’s something for everyone at this event. \nIt’s not just about the shopping – the Downtown Rochester Makers’ Market is an opportunity to connect with the makers themselves\, learn about their craft\, and support their businesses. Plus\, with live music and a vibrant atmosphere\, this event is a true celebration of creativity and community. \nDon’t miss your chance to experience the magic of the Downtown Rochester Makers’ Market. Join us for a day of shopping\, learning\, and fun!
URL:https://caronkoteles.com/event/summer-makers-market-downtown-rochester-michigan/
END:VEVENT
END:VCALENDAR