BEGIN:VCALENDAR
VERSION:2.0
PRODID:-//Caron Koteles Riha - ECPv6.15.20//NONSGML v1.0//EN
CALSCALE:GREGORIAN
METHOD:PUBLISH
X-ORIGINAL-URL:https://caronkoteles.com
X-WR-CALDESC:Events for Caron Koteles Riha
REFRESH-INTERVAL;VALUE=DURATION:PT1H
X-Robots-Tag:noindex
X-PUBLISHED-TTL:PT1H
BEGIN:VTIMEZONE
TZID:America/Detroit
BEGIN:DAYLIGHT
TZOFFSETFROM:-0500
TZOFFSETTO:-0400
TZNAME:EDT
DTSTART:20250309T070000
END:DAYLIGHT
BEGIN:STANDARD
TZOFFSETFROM:-0400
TZOFFSETTO:-0500
TZNAME:EST
DTSTART:20251102T060000
END:STANDARD
BEGIN:DAYLIGHT
TZOFFSETFROM:-0500
TZOFFSETTO:-0400
TZNAME:EDT
DTSTART:20260308T070000
END:DAYLIGHT
BEGIN:STANDARD
TZOFFSETFROM:-0400
TZOFFSETTO:-0500
TZNAME:EST
DTSTART:20261101T060000
END:STANDARD
BEGIN:DAYLIGHT
TZOFFSETFROM:-0500
TZOFFSETTO:-0400
TZNAME:EDT
DTSTART:20270314T070000
END:DAYLIGHT
BEGIN:STANDARD
TZOFFSETFROM:-0400
TZOFFSETTO:-0500
TZNAME:EST
DTSTART:20271107T060000
END:STANDARD
END:VTIMEZONE
BEGIN:VEVENT
DTSTART;TZID=America/Detroit:20260624T180000
DTEND;TZID=America/Detroit:20260624T180000
DTSTAMP:20260424T122317
CREATED:20260323T181726Z
LAST-MODIFIED:20260323T181726Z
UID:40102-1782324000-1782324000@caronkoteles.com
SUMMARY:2026 Festival of the Hills - Borden Park
DESCRIPTION:2026 Festival of the Hills \nWhen: Wednesday\, June 24\, 2026\nLocation: Borden Park\, 1400 E. Hamlin Rd.   \nAdmission into Borden Park and the event is free! \nEntertainment starts at 6:00 pm\, entertainment to be announced!\nFireworks start at 10:05 pm!
URL:https://caronkoteles.com/event/2026-festival-of-the-hills-borden-park/
END:VEVENT
END:VCALENDAR