BEGIN:VCALENDAR
VERSION:2.0
PRODID:-//Caron Koteles Riha - ECPv6.15.20//NONSGML v1.0//EN
CALSCALE:GREGORIAN
METHOD:PUBLISH
X-ORIGINAL-URL:https://caronkoteles.com
X-WR-CALDESC:Events for Caron Koteles Riha
REFRESH-INTERVAL;VALUE=DURATION:PT1H
X-Robots-Tag:noindex
X-PUBLISHED-TTL:PT1H
BEGIN:VTIMEZONE
TZID:America/Detroit
BEGIN:DAYLIGHT
TZOFFSETFROM:-0500
TZOFFSETTO:-0400
TZNAME:EDT
DTSTART:20230312T070000
END:DAYLIGHT
BEGIN:STANDARD
TZOFFSETFROM:-0400
TZOFFSETTO:-0500
TZNAME:EST
DTSTART:20231105T060000
END:STANDARD
BEGIN:DAYLIGHT
TZOFFSETFROM:-0500
TZOFFSETTO:-0400
TZNAME:EDT
DTSTART:20240310T070000
END:DAYLIGHT
BEGIN:STANDARD
TZOFFSETFROM:-0400
TZOFFSETTO:-0500
TZNAME:EST
DTSTART:20241103T060000
END:STANDARD
BEGIN:DAYLIGHT
TZOFFSETFROM:-0500
TZOFFSETTO:-0400
TZNAME:EDT
DTSTART:20250309T070000
END:DAYLIGHT
BEGIN:STANDARD
TZOFFSETFROM:-0400
TZOFFSETTO:-0500
TZNAME:EST
DTSTART:20251102T060000
END:STANDARD
END:VTIMEZONE
BEGIN:VEVENT
DTSTART;TZID=America/Detroit:20240201T000000
DTEND;TZID=America/Detroit:20240229T000000
DTSTAMP:20260421T201855
CREATED:20240125T183121Z
LAST-MODIFIED:20240125T183121Z
UID:23357-1706745600-1709164800@caronkoteles.com
SUMMARY:Foodie February in Downtown Rochester\, MI! Win a Dining Package!
DESCRIPTION:DINE-IN OR CARRY-OUT AT ONE OR MORE PARTICIPATING BUSINESSES DURING THE MONTH OF FEBRUARY AND ENTER FOR A CHANCE TO WIN A $500 \, A $250 OR A $100 DINING PACKAGE! \nStay tuned for a link to more information
URL:https://caronkoteles.com/event/foodie-february-in-downtown-rochester-mi-win-a-dining-package/
END:VEVENT
BEGIN:VEVENT
DTSTART;TZID=America/Detroit:20240209T073000
DTEND;TZID=America/Detroit:20240209T100000
DTSTAMP:20260421T201855
CREATED:20240129T184145Z
LAST-MODIFIED:20240129T184145Z
UID:23409-1707463800-1707472800@caronkoteles.com
SUMMARY:Coffee Talk at Rochester Community House
DESCRIPTION:Bring your 2-minute “elevator speech” and a stack of business cards\, then get ready for speed networking over coffee! \nAt Rochester Community House: 816 Ludlow Ave\, Rochester\, MI
URL:https://caronkoteles.com/event/coffee-talk-at-rochester-community-house/
END:VEVENT
BEGIN:VEVENT
DTSTART;TZID=America/Detroit:20240210T100000
DTEND;TZID=America/Detroit:20240210T140000
DTSTAMP:20260421T201855
CREATED:20240129T190058Z
LAST-MODIFIED:20240129T190058Z
UID:23414-1707559200-1707573600@caronkoteles.com
SUMMARY:Galentine's Boutique Crawl in Downtown Rochester\, MI
DESCRIPTION:“💝Calling all Ladies!💝 \nJoin us for a Galentine’s Boutique Crawl on Saturday\, February 10th from 10 AM-2PM! It’s going to be a day filled with celebrating friendship & love with some amazing Rochester boutiques!💕 \nSip and shop our new arrivals\, store favorites\, specials\, deals and more! Please see each boutique for more in store details. \nGrab some girls & head Downtown Rochester for a fun day out! 🛍🌸🥂” \nStores include: 4th Street Boutique\, Hello Fancy Boutique\, Talulah Belle\, Baus\, Sole Sisters\, The Peppertree\, and Be Scene Boutique!
URL:https://caronkoteles.com/event/galentines-boutique-crawl-in-downtown-rochester-mi/
END:VEVENT
BEGIN:VEVENT
DTSTART;TZID=America/Detroit:20240211T080000
DTEND;TZID=America/Detroit:20240211T110000
DTSTAMP:20260421T201855
CREATED:20240129T184359Z
LAST-MODIFIED:20240129T184359Z
UID:23412-1707638400-1707649200@caronkoteles.com
SUMMARY:Rochester\, MI Fire Department - Pancake Breakfast
DESCRIPTION:Join us February 11th for a Pancake Breakfast! \nPancakes\, Sausage\, Beverage\nSunday\, Feb 11\, 8-11 AM\nRochester Fire Station: 277 E. Second St \nAdults – $8\nChildren under 12 – $4
URL:https://caronkoteles.com/event/rochester-mi-fire-department-pancake-breakfast/
END:VEVENT
BEGIN:VEVENT
DTSTART;TZID=America/Detroit:20240211T183000
DTEND;TZID=America/Detroit:20240211T183000
DTSTAMP:20260421T201855
CREATED:20240129T190330Z
LAST-MODIFIED:20240129T190330Z
UID:23416-1707676200-1707676200@caronkoteles.com
SUMMARY:Super Bowl LVIII: San Francisco 49ers vs Kansas City Chiefs
DESCRIPTION:Super Bowl LVIII: San Francisco 49ers vs Kansas City Chiefs at 6:30 PM
URL:https://caronkoteles.com/event/super-bowl-lviii-san-francisco-49ers-vs-kansas-city-chiefs/
END:VEVENT
END:VCALENDAR