BEGIN:VCALENDAR
VERSION:2.0
PRODID:-//Caron Koteles Riha - ECPv6.15.20//NONSGML v1.0//EN
CALSCALE:GREGORIAN
METHOD:PUBLISH
X-ORIGINAL-URL:https://caronkoteles.com
X-WR-CALDESC:Events for Caron Koteles Riha
REFRESH-INTERVAL;VALUE=DURATION:PT1H
X-Robots-Tag:noindex
X-PUBLISHED-TTL:PT1H
BEGIN:VTIMEZONE
TZID:America/Detroit
BEGIN:DAYLIGHT
TZOFFSETFROM:-0500
TZOFFSETTO:-0400
TZNAME:EDT
DTSTART:20230312T070000
END:DAYLIGHT
BEGIN:STANDARD
TZOFFSETFROM:-0400
TZOFFSETTO:-0500
TZNAME:EST
DTSTART:20231105T060000
END:STANDARD
BEGIN:DAYLIGHT
TZOFFSETFROM:-0500
TZOFFSETTO:-0400
TZNAME:EDT
DTSTART:20240310T070000
END:DAYLIGHT
BEGIN:STANDARD
TZOFFSETFROM:-0400
TZOFFSETTO:-0500
TZNAME:EST
DTSTART:20241103T060000
END:STANDARD
BEGIN:DAYLIGHT
TZOFFSETFROM:-0500
TZOFFSETTO:-0400
TZNAME:EDT
DTSTART:20250309T070000
END:DAYLIGHT
BEGIN:STANDARD
TZOFFSETFROM:-0400
TZOFFSETTO:-0500
TZNAME:EST
DTSTART:20251102T060000
END:STANDARD
END:VTIMEZONE
BEGIN:VEVENT
DTSTART;TZID=America/Detroit:20240405T000000
DTEND;TZID=America/Detroit:20240405T000000
DTSTAMP:20260421T173405
CREATED:20240325T192840Z
LAST-MODIFIED:20240325T192840Z
UID:24271-1712275200-1712275200@caronkoteles.com
SUMMARY:Last Day of Deck Art Registration!
DESCRIPTION:What: Unleash the artist in you! Join us for downtown Rochester’s 14th annual skateboard art exhibition  and competition! Participants are given a blank skateboard deck to use as their canvas; any medium is acceptable for 2 and 3-dimensional pieces. \nWhere: Completed artwork will be placed on display throughout as many as 50 businesses in downtown Rochester. Onlookers can enjoy and admire these uniquely designed pieces of artwork\n while strolling in and out of businesses. \nWhen: May 9 & 10\, 5:00 – 9:00 pm. \nArtist registration takes place February 1 – April 5 (while supplies last) at South Street Skateshop (410 Main).
URL:https://caronkoteles.com/event/last-day-of-deck-art-registration/
END:VEVENT
BEGIN:VEVENT
DTSTART;TZID=America/Detroit:20240405T100000
DTEND;TZID=America/Detroit:20240407T170000
DTSTAMP:20260421T173405
CREATED:20240325T195251Z
LAST-MODIFIED:20240325T195251Z
UID:24292-1712311200-1712509200@caronkoteles.com
SUMMARY:Friends Spring Big Book Sale - Farmington Hills\, MI
DESCRIPTION:The Farmington Friends of the Library will be having their semi-annual book sale April 5-7 in the Browsing Room at the FCL Farmington Hills location (32737 W. 12 Mile Rd.). All proceeds go to support the Library.\nFind more information about the Friends here: https://farmlib.org/about-us/friends-of-the-library/ \nSale Details:\nFriday\, April 5\, 10:30 a.m. – 5:30 p.m.\n10:30 a.m. – 12:30 p.m. – Friends Members only \nSaturday\, April 6\, 10:30 a.m. – 5:30 p.m.\nTeachers get half off on regularly-priced items\, please show ID \nSunday\, April 7\, 1:30-4:30 p.m.\n$5 bag sale\, paper bags available or bring your own
URL:https://caronkoteles.com/event/friends-spring-big-book-sale-farmington-hills-mi/
END:VEVENT
BEGIN:VEVENT
DTSTART;TZID=America/Detroit:20240406T170000
DTEND;TZID=America/Detroit:20240406T170000
DTSTAMP:20260421T173405
CREATED:20240325T195047Z
LAST-MODIFIED:20240325T195047Z
UID:24289-1712422800-1712422800@caronkoteles.com
SUMMARY:4th Annual Royal Oak Bourbon Fest! - Royal Oak Farmers Market
DESCRIPTION:The 4th annual Royal Oak Bourbon Fest is an indoor bourbon festival hosted at Royal Oak Farmers Market (316 E Eleven Mile Rd\, Royal Oak\, MI 48067). The event runs in two sessions. First session is from 5:00pm to 7:30pm and second session is from 8:30pm to 11:00pm. \nThis festival will feature 200+ whiskeys and bourbons\, store picks\, classic cocktails and high-end bottle section. Most of the list is bourbon but there will be a few non-bourbon options such as beer\, wine & non-alcoholic options. In addition to the great beverage selection\, we will have food trucks\, live music\, vendors and more! \nWebsite: https://royaloakbourbonfest.com/\nThis is a rain or shine event\, event is 21+ (with valid picture ID)\, all sales are final\, and tickets are not refundable.
URL:https://caronkoteles.com/event/4th-annual-royal-oak-bourbon-fest-royal-oak-farmers-market/
END:VEVENT
BEGIN:VEVENT
DTSTART;TZID=America/Detroit:20240408T000000
DTEND;TZID=America/Detroit:20240419T000000
DTSTAMP:20260421T173405
CREATED:20240325T192949Z
LAST-MODIFIED:20240325T192949Z
UID:24273-1712534400-1713484800@caronkoteles.com
SUMMARY:Submit Board Artwork!
DESCRIPTION:Submit completed artwork April 8 – April 19 to the Rochester DDA’s Downtown Collaboration Studio (431 S. Main Street).
URL:https://caronkoteles.com/event/submit-board-artwork/
END:VEVENT
BEGIN:VEVENT
DTSTART;TZID=America/Detroit:20240413T110000
DTEND;TZID=America/Detroit:20240413T140000
DTSTAMP:20260421T173405
CREATED:20240325T194734Z
LAST-MODIFIED:20240325T194734Z
UID:24285-1713006000-1713016800@caronkoteles.com
SUMMARY:Birmingham\, MI Spring Stroll - Birmingham Shopping District
DESCRIPTION:The free Spring Stroll event features local retailers\, with special giveaways for both adults and children. The event takes place between 11:00 a.m. and 2:00 p.m. with staggered start times (registration required). Register and find more information at www.ALLINBirmingham.com/events. \nUpon registration\, attendees will receive instructions on where to check-in to pickup their event bag\, activity sheet and list of participating retailers. From there\, attendees are invited to visit participating retailers of their choice\, collect giveaways and complete the activity sheet. Completed activity sheets may be returned to the event check-in for a prize\, and will be displayed around town.
URL:https://caronkoteles.com/event/birmingham-mi-spring-stroll-birmingham-shopping-district/
END:VEVENT
BEGIN:VEVENT
DTSTART;TZID=America/Detroit:20240414T170000
DTEND;TZID=America/Detroit:20240414T170000
DTSTAMP:20260421T173405
CREATED:20240325T195617Z
LAST-MODIFIED:20240325T195650Z
UID:24294-1713114000-1713114000@caronkoteles.com
SUMMARY:Taylor Swift Dance PARTY! At The Roxy in Rochester\, MI!
DESCRIPTION:We are going to make the whole place SHIMMER!!!! \nDUE TO POPULAR DEMAND – WE ADDED ANOTHER DATE!! \nJoin us for a Taylor Swift Dance Party APRIL 14th\, 2024 at 5pm to watch\, sing & dance along to The Eras Tour!\n– 401 Walnut Blvd\, Rochester\, MI 48307-1946\, United States (The Roxy Rochester) \nTicket includes:\nPopcorn\, Speciality Mocktail\, Taylor Swift themed lanyard & photo opps! \nDress up in your glitter and Taylor Swift outfits for an awesome night! \nAll ages!!!! Guests 15 years or below need to be accompanied by an adult. \nDoors open at 4pm – Show starts at 5pm \nAll sales are final.
URL:https://caronkoteles.com/event/taylor-swift-dance-party-at-the-roxy-in-rochester-mi/
END:VEVENT
BEGIN:VEVENT
DTSTART;TZID=America/Detroit:20240420T120000
DTEND;TZID=America/Detroit:20240420T140000
DTSTAMP:20260421T173405
CREATED:20240126T192530Z
LAST-MODIFIED:20240126T193440Z
UID:23378-1713614400-1713621600@caronkoteles.com
SUMMARY:6th Annual Shred Day in Support of New Day Foundation for Families Facing Cancer!
DESCRIPTION:6TH ANNUAL SHRED DAY! \nClear out your clutter and protect your personal information at our FREE shred event! \nSaturday\, April 20th\, from 12 PM – 2 PM\nReal Estate One Office\n1002 N. Main Street\, Rochester\, MI 48307 \nAll donations benefit the New Day Foundation for Families Fighting Cancer (Checks Payable to New Day Foundation)\nCaron Koteles Riha will match all donations for this event. \nDonate in person the day of the event! \n\nMore info:\n248.379.6651\nCaron@CaronKoteles.com
URL:https://caronkoteles.com/event/6th-annual-shred-day-in-support-of-new-day-foundation-for-families-facing-cancer/
END:VEVENT
BEGIN:VEVENT
DTSTART;TZID=America/Detroit:20240425T120000
DTEND;TZID=America/Detroit:20240427T180000
DTSTAMP:20260421T173405
CREATED:20240325T193233Z
LAST-MODIFIED:20240325T193233Z
UID:24276-1714046400-1714240800@caronkoteles.com
SUMMARY:2024 NFL Draft in Detroit\, MI!
DESCRIPTION:Detroit is on the Clock at the NFL Draft presented by Bud Light April 25 – 27\, 2024 and entry is FREE! Fans can now register for free entry by downloading the NFL OnePass app or on the web at NFL.com/DraftAccess. All adults are required to register but can also register up to five children to get into the event. \nHart Plaza will host all Draft Experience Presented by Rocket Mortgage activations\, including games\, exhibits\, player appearances and sponsor experiences. Corner Ballpark will host youth-focused activities\, including NFL FLAG skills and drills and football clinics. Fans are encouraged to get to Draft Experience early\, as attendance will be on a first-come first-served basis.
URL:https://caronkoteles.com/event/2024-nfl-draft-in-detroit-mi/
END:VEVENT
END:VCALENDAR