BEGIN:VCALENDAR
VERSION:2.0
PRODID:-//Caron Koteles Riha - ECPv6.15.20//NONSGML v1.0//EN
CALSCALE:GREGORIAN
METHOD:PUBLISH
X-ORIGINAL-URL:https://caronkoteles.com
X-WR-CALDESC:Events for Caron Koteles Riha
REFRESH-INTERVAL;VALUE=DURATION:PT1H
X-Robots-Tag:noindex
X-PUBLISHED-TTL:PT1H
BEGIN:VTIMEZONE
TZID:America/Detroit
BEGIN:DAYLIGHT
TZOFFSETFROM:-0500
TZOFFSETTO:-0400
TZNAME:EDT
DTSTART:20230312T070000
END:DAYLIGHT
BEGIN:STANDARD
TZOFFSETFROM:-0400
TZOFFSETTO:-0500
TZNAME:EST
DTSTART:20231105T060000
END:STANDARD
BEGIN:DAYLIGHT
TZOFFSETFROM:-0500
TZOFFSETTO:-0400
TZNAME:EDT
DTSTART:20240310T070000
END:DAYLIGHT
BEGIN:STANDARD
TZOFFSETFROM:-0400
TZOFFSETTO:-0500
TZNAME:EST
DTSTART:20241103T060000
END:STANDARD
BEGIN:DAYLIGHT
TZOFFSETFROM:-0500
TZOFFSETTO:-0400
TZNAME:EDT
DTSTART:20250309T070000
END:DAYLIGHT
BEGIN:STANDARD
TZOFFSETFROM:-0400
TZOFFSETTO:-0500
TZNAME:EST
DTSTART:20251102T060000
END:STANDARD
BEGIN:DAYLIGHT
TZOFFSETFROM:-0500
TZOFFSETTO:-0400
TZNAME:EDT
DTSTART:20260308T070000
END:DAYLIGHT
BEGIN:STANDARD
TZOFFSETFROM:-0400
TZOFFSETTO:-0500
TZNAME:EST
DTSTART:20261101T060000
END:STANDARD
END:VTIMEZONE
BEGIN:VEVENT
DTSTART;TZID=America/Detroit:20241108T173000
DTEND;TZID=America/Detroit:20241108T203000
DTSTAMP:20260421T054254
CREATED:20241029T181229Z
LAST-MODIFIED:20241029T181229Z
UID:28389-1731087000-1731097800@caronkoteles.com
SUMMARY:2024 Holiday Silent Auction - Paint Creek Center for the Arts
DESCRIPTION:Join Paint Creek Center for the Arts at Rochester Salvage & Supply for our annual Holiday Silent Auction! Attendees will have the opportunity to bid on art donated by artists featured at the Art & Apples Festival\, along with a variety of other prizes donated by local businesses. Guests will also enjoy a catered strolling dinner\, open bar\, and live art demonstrations. \nTickets are $55 for the general public and $45 for PCCA members. Tickets can be purchased via our Eventbrite page. \nSponsorship options can be seen here. For questions or to sign up as a sponsor\, contact Shaun Hayes at (248) 651-4110 or shaun@pccart.org. \nAuction Notes: Bidding will end at 8:00pm\, at which time winners will be able to check out and pick up the items they won. Winners who leave the event prior to the end of bidding will be contacted by PCCA staff to pick up their item at a later time. \nNovember 8th from 5:30-8:30 PM at Rochester Salvage & Supply \nFor more info: https://pccart.org/2024-holiday-silent-auction/
URL:https://caronkoteles.com/event/2024-holiday-silent-auction-paint-creek-center-for-the-arts/
END:VEVENT
BEGIN:VEVENT
DTSTART;TZID=America/Detroit:20241115T160000
DTEND;TZID=America/Detroit:20241115T190000
DTSTAMP:20260421T054254
CREATED:20241029T185210Z
LAST-MODIFIED:20241029T185210Z
UID:28426-1731686400-1731697200@caronkoteles.com
SUMMARY:PCCA’s Annual Holiday Art Market
DESCRIPTION:PCCA’s annual Holiday Art Market brings local artists and art lovers together each holiday season. \nAs the winter holidays approach\, many of us find ourselves looking for unique items to gift to our loved ones. This year\, consider supporting local artists and small businesses by shopping PCCA’s annual Holiday Art Market. \nLocated in downtown Rochester\, Michigan\, the Art Market features original artwork from over 40 artists year-round. During the Holiday Art Market\, that number is expanded to 55-60 artists\, providing almost 2\,000 handmade and original items for shoppers to choose from. From paintings and photography to jewelry and pottery\, and everything in between\, there is something for everyone on your holiday shopping list. \nIn addition to one-of-a-kind gift shopping\, the 2024 Holiday Art Market will be opening in tandem with PCCA’s annual Student & Faculty exhibition. The Student & Faculty exhibit takes place in PCCA’s gallery\, which occupies the second floor of our historic building. Complete with music\, twinkling lights\, refreshments and the chance to meet and mingle\, the two events make a perfect pair. \nMark your calendars for the opening reception November 15th from 4-7pm. This event is free to the public and will open jointly with our 2024 Student & Faculty Exhibition.
URL:https://caronkoteles.com/event/pccas-annual-holiday-art-market/
END:VEVENT
BEGIN:VEVENT
DTSTART;TZID=America/Detroit:20241123T100000
DTEND;TZID=America/Detroit:20241124T160000
DTSTAMP:20260421T054254
CREATED:20241029T185048Z
LAST-MODIFIED:20241029T185048Z
UID:28423-1732356000-1732464000@caronkoteles.com
SUMMARY:Downtown Rochester Festival of Trees
DESCRIPTION:FESTIVAL OF TREES\nNOVEMBER 23 & 24 – open to the public \nThe event will be open to the public on Saturday\, November 23 from 10 am – 8 pm and Sunday\, November 24 from 10 am – 4 pm at our The Rochester Community House (816 Ludlow). Admission is free. \nAll proceeds benefit The Big\, Bright Light Show.  \nFor more information about the Downtown Rochester Festival of Trees\, contact the Rochester DDA at 248-656-0060 or email info@downtownrochestermi.com.
URL:https://caronkoteles.com/event/downtown-rochester-festival-of-trees/
END:VEVENT
BEGIN:VEVENT
DTSTART;TZID=America/Detroit:20241125T000000
DTEND;TZID=America/Detroit:20241204T000000
DTSTAMP:20260421T054254
CREATED:20241029T184028Z
LAST-MODIFIED:20241029T184102Z
UID:28417-1732492800-1733270400@caronkoteles.com
SUMMARY:Holiday Window Contest
DESCRIPTION:Text-to-vote for your favorite Holiday Window!  Participating businesses will have a text code displayed on their storefront. Winners will be announced on stage at the Kris Kringle Market on Friday\, December 6.
URL:https://caronkoteles.com/event/holiday-window-contest-2/
END:VEVENT
BEGIN:VEVENT
DTSTART;TZID=America/Detroit:20241125T000000
DTEND;TZID=America/Detroit:20250119T000000
DTSTAMP:20260421T054254
CREATED:20241029T183335Z
LAST-MODIFIED:20241029T183335Z
UID:28407-1732492800-1737244800@caronkoteles.com
SUMMARY:The Big\, Bright Light Show
DESCRIPTION:You are invited to brighten your holidays in Downtown Rochester with The Big\, Bright Light Show! The buildings in downtown Rochester will be covered with more than 1 million points of glimmering holiday light. \nThe display will be lit every evening (5 pm – Midnight) November 25 – January 19\, 2025.  Most stores are open Monday – Saturday\, until 9 pm.
URL:https://caronkoteles.com/event/the-big-bright-light-show-2/
END:VEVENT
BEGIN:VEVENT
DTSTART;TZID=America/Detroit:20241125T180000
DTEND;TZID=America/Detroit:20241125T210000
DTSTAMP:20260421T054254
CREATED:20241029T183516Z
LAST-MODIFIED:20241029T183516Z
UID:28409-1732557600-1732568400@caronkoteles.com
SUMMARY:LAGNIAPPE 2024
DESCRIPTION:Lagniappe \nMain Street will be closed for this event from 5:30 – 9:30 pm \nMonday\, November 25\, 6:00-9:00 pm \nDowntown Rochester will sparkle with holiday spirit as local merchants show their appreciation to the community during the much-anticipated Lagniappe event. Join us on Monday\, November 25th\, from 6:00 – 9:00 pm\, to celebrate Lagniappe’s 51st anniversary\, where “a little something extra” awaits all our valued patrons.  \nLagniappe\, a Creole word for “a little something extra\,” embodies the spirit of giving and appreciation. It’s the perfect way for the merchants of Downtown Rochester to express their gratitude to the community for their support throughout the year.  \nOnce again\, the Rochester Downtown Development Authority (DDA)\, in collaboration with City of Rochester officials and MDOT\, will close Main Street for the event. Main Street will be closed from Second Street to University Drive from 5:30 pm to 9:30 pm. Detour signs will guide traffic around Rochester and Rochester Hills. Attendees are encouraged to arrive early to secure parking\, and due to the large crowds\, we kindly ask that you leave your four-legged friends at home.  \nAs part of the evening’s festivities\, the DDA will present “a little something extra” with the debut of The Big\, Bright Light Show\, sponsored by Fox Automotive. The program will kick off at 6:00 pm on stage located on the crosswalk of W. 4th Street & Main\, with the Mayor\, Channel 7\, and a special guest appearance by Santa Claus\, sponsored by Viviano Flower Shop. At 7:00 pm\, The Big\, Bright Light Show will illuminate Downtown Rochester\, followed by a fireworks display\, also sponsored by Fox Automotive. Afterward\, children can share their Christmas wishes with Santa from 7:15 pm to 9:00 pm. \nSCHEDULE OF ACTIVITIES \n6:00 PM: Viviano Flower Shop welcomes the crowd\n6:10 – 6:30 PM: Phoebe Holmes of the Keynote Sisters performance.\n6:30 PM: Meadow Brook Carolers followed by brief program.\n7:00 PM: The Big\, Bright Light Show followed by fireworks.\n7:15 – 9:00 PM: Visit with Santa.
URL:https://caronkoteles.com/event/lagniappe-2024/
END:VEVENT
BEGIN:VEVENT
DTSTART;VALUE=DATE:20241129
DTEND;VALUE=DATE:20241130
DTSTAMP:20260421T054254
CREATED:20241029T183112Z
LAST-MODIFIED:20241029T183112Z
UID:28403-1732838400-1732924799@caronkoteles.com
SUMMARY:Love Local Rochester - Plaid Friday
DESCRIPTION:Plaid Friday celebrates the diversity and creativity of local and independent businesses. It’s a fun alternative to the consumer frenzy of ‘Black Friday’. We are encouraging you to wear plaid while shopping local to celebrate!  \nWant to win a $500 Downtown Rochester Shopping Spree?\nShopper Contest Instructions \n1. SHOP: Make any purchase at a Downtown Rochester Business from November 29 – 30 and save your receipt.\n2. TEXT: SHOPSMALL to 866-603-4005 and receive a confirmation text.\n3. WIN: Text a picture of your receipt from a purchase made at a  Downtown Rochester Business from November 29 – 30. \nThe winner will be contacted on Wednesday\, December 4.
URL:https://caronkoteles.com/event/love-local-rochester-plaid-friday/
END:VEVENT
BEGIN:VEVENT
DTSTART;VALUE=DATE:20241130
DTEND;VALUE=DATE:20241201
DTSTAMP:20260421T054254
CREATED:20241029T182249Z
LAST-MODIFIED:20241029T182249Z
UID:28391-1732924800-1733011199@caronkoteles.com
SUMMARY:Small Business Saturday! Downtown Rochester\, MI
DESCRIPTION:Small Business Saturday is a day dedicated to supporting small businesses across the country. Founded by American Express in 2010\, this day is celebrated every year on the Saturday after Thanksgiving. This year\, Small Business Saturday is on November 30. We encourage everyone to shop small in Downtown Rochester! \nWANT TO WIN A $500 DOWNTOWN ROCHESTER SHOPPING SPREE? \nShopper Contest Instructions \n1. SHOP: Make any purchase at a Downtown Rochester Business from November 29 – 30 and save your receipt.\n2. TEXT: SHOPSMALL to 866-603-4005 and receive a confirmation text.\n3. WIN: Text a picture of your receipt from a purchase made at a  Downtown Rochester Business from November 29 – 30\, The winner will be contacted on Wednesday\, Dec. 4th.
URL:https://caronkoteles.com/event/small-business-saturday-downtown-rochester-mi/
END:VEVENT
END:VCALENDAR